BEGIN:VCALENDAR
VERSION:2.0
PRODID:-//Tukios.com/
BEGIN:VEVENT
UID:501b0bf4-0659-4395-bf17-497d22dd5e21@www.rivetfuneralhome.com
DTSTAMP:20260423T203901Z
DTSTART:20260529T210000Z
DTEND:20260529T230000Z
SUMMARY:Visitation
DESCRIPTION:
URL:https://www.rivetfuneralhome.com/obituaries/constance-dumont
LOCATION:Rivet Funeral Home 425 Daniel Webster Highway  Merrimack NH 
	03054
GEO:42.8604188;-71.4917377
END:VEVENT
END:VCALENDAR