BEGIN:VCALENDAR
VERSION:2.0
PRODID:-//Tukios.com/
BEGIN:VEVENT
UID:d602d4e8-fd69-43e4-ae04-00c25fb0edd9@www.rivetfuneralhome.com
DTSTAMP:20260423T204953Z
DTSTART:20260502T140000Z
DTEND:20260502T150000Z
SUMMARY:Graveside Service
DESCRIPTION:
URL:https://www.rivetfuneralhome.com/obituaries/frances-lheureux
LOCATION:Saint Stanislaus Cemetery 61 Pine Hill Rd  Nashua NH 03063
GEO:42.7748952;-71.4976645
END:VEVENT
END:VCALENDAR