BEGIN:VCALENDAR
VERSION:2.0
PRODID:-//Tukios.com/
BEGIN:VEVENT
UID:31789cd1-8c34-49b3-add2-a18d82d1b5a2@www.rivetfuneralhome.com
DTSTAMP:20260423T203246Z
DTSTART:20260502T143000Z
DTEND:20260502T153000Z
SUMMARY:Memorial Service
DESCRIPTION:
URL:https://www.rivetfuneralhome.com/obituaries/janet-gerenz
LOCATION:Grace Lutheran Church 130 Spit Brook Road  Nashua NH 03062
GEO:42.709186;-71.4621657
END:VEVENT
END:VCALENDAR