BEGIN:VCALENDAR
VERSION:2.0
PRODID:-//Tukios.com/
BEGIN:VEVENT
UID:56122d6d-bddf-4628-932a-1eab938b4115@www.rivetfuneralhome.com
DTSTAMP:20260423T203907Z
DTSTART:20260831T150000Z
DTEND:20260831T160000Z
SUMMARY:Memorial Service
DESCRIPTION:
URL:https://www.rivetfuneralhome.com/obituaries/lorraine-caron
LOCATION: 110 Daniel Webster Highway  Boscawen NH 03303
GEO:43.3326973;-71.6355391
END:VEVENT
END:VCALENDAR