BEGIN:VCALENDAR
VERSION:2.0
PRODID:-//Tukios.com/
BEGIN:VEVENT
UID:a1722e3e-2b62-4bcc-9687-44c0143b977c@www.rivetfuneralhome.com
DTSTAMP:20260423T183309Z
DTSTART:20260530T150000Z
DTEND:20260530T160000Z
SUMMARY:Worship and Celebration of Life service
DESCRIPTION:
URL:https://www.rivetfuneralhome.com/obituaries/roger-brown
LOCATION:International Harvest Christian Church 542 Mast Road  Goffstown 
	NH 03045
GEO:43.0011129;-71.5183929
END:VEVENT
END:VCALENDAR